BEGIN:VCALENDAR
VERSION:2.0
PRODID:-//Entrepreneurship4all - ECPv6.0.13.1//NONSGML v1.0//EN
CALSCALE:GREGORIAN
METHOD:PUBLISH
X-WR-CALNAME:Entrepreneurship4all
X-ORIGINAL-URL:https://archive.entrepreneurship4all.eu
X-WR-CALDESC:Events for Entrepreneurship4all
REFRESH-INTERVAL;VALUE=DURATION:PT1H
X-Robots-Tag:noindex
X-PUBLISHED-TTL:PT1H
BEGIN:VTIMEZONE
TZID:Europe/Helsinki
BEGIN:DAYLIGHT
TZOFFSETFROM:+0200
TZOFFSETTO:+0300
TZNAME:EEST
DTSTART:20230326T010000
END:DAYLIGHT
BEGIN:STANDARD
TZOFFSETFROM:+0300
TZOFFSETTO:+0200
TZNAME:EET
DTSTART:20231029T010000
END:STANDARD
TZID:Europe/Athens
BEGIN:DAYLIGHT
TZOFFSETFROM:+0200
TZOFFSETTO:+0300
TZNAME:EEST
DTSTART:20230326T010000
END:DAYLIGHT
BEGIN:STANDARD
TZOFFSETFROM:+0300
TZOFFSETTO:+0200
TZNAME:EET
DTSTART:20231029T010000
END:STANDARD
END:VTIMEZONE
BEGIN:VEVENT
DTSTART;TZID=Europe/Helsinki:20230505T120000
DTEND;TZID=Europe/Helsinki:20230505T130000
DTSTAMP:20260422T052853
CREATED:20230413T093201Z
LAST-MODIFIED:20230413T124128Z
UID:532-1683288000-1683291600@archive.entrepreneurship4all.eu
SUMMARY:Module 2 - Communication and collaboration through digital technologies
DESCRIPTION:Week 2 – Digital Competence
URL:https://archive.entrepreneurship4all.eu/event/module-2-communication-and-collaboration-through-digital-technologies/
CATEGORIES:Beginners,Digital Competence
END:VEVENT
BEGIN:VEVENT
DTSTART;TZID=Europe/Athens:20230512T120000
DTEND;TZID=Europe/Athens:20230512T130000
DTSTAMP:20260422T052853
CREATED:20230413T093908Z
LAST-MODIFIED:20230413T093908Z
UID:537-1683892800-1683896400@archive.entrepreneurship4all.eu
SUMMARY:Module 3 -Digital content creation
DESCRIPTION:Week 3 – Digital Competence
URL:https://archive.entrepreneurship4all.eu/event/module-3-digital-content-creation/
LOCATION:Pillars
CATEGORIES:Beginners,Digital Competence
END:VEVENT
BEGIN:VEVENT
DTSTART;TZID=Europe/Helsinki:20230518T120000
DTEND;TZID=Europe/Helsinki:20230518T130000
DTSTAMP:20260422T052853
CREATED:20230413T094234Z
LAST-MODIFIED:20230413T094234Z
UID:541-1684411200-1684414800@archive.entrepreneurship4all.eu
SUMMARY:Module 4 - Problem solving in digital environments
DESCRIPTION:Week 4 – Digital Competence
URL:https://archive.entrepreneurship4all.eu/event/module-4-problem-solving-in-digital-environments/
CATEGORIES:Beginners,Digital Competence
END:VEVENT
BEGIN:VEVENT
DTSTART;TZID=Europe/Helsinki:20230525T120000
DTEND;TZID=Europe/Helsinki:20230525T130000
DTSTAMP:20260422T052853
CREATED:20230413T095637Z
LAST-MODIFIED:20230413T095637Z
UID:546-1685016000-1685019600@archive.entrepreneurship4all.eu
SUMMARY:Module 5 - Safety in digital environments
DESCRIPTION:Week 5 – Digital Competence
URL:https://archive.entrepreneurship4all.eu/event/module-5-safety-in-digital-environments/
LOCATION:Pillars
CATEGORIES:Beginners,Digital Competence
END:VEVENT
END:VCALENDAR