BEGIN:VCALENDAR
VERSION:2.0
PRODID:-//Entrepreneurship4all - ECPv6.0.13.1//NONSGML v1.0//EN
CALSCALE:GREGORIAN
METHOD:PUBLISH
X-WR-CALNAME:Entrepreneurship4all
X-ORIGINAL-URL:https://archive.entrepreneurship4all.eu
X-WR-CALDESC:Events for Entrepreneurship4all
REFRESH-INTERVAL;VALUE=DURATION:PT1H
X-Robots-Tag:noindex
X-PUBLISHED-TTL:PT1H
BEGIN:VTIMEZONE
TZID:Europe/Helsinki
BEGIN:DAYLIGHT
TZOFFSETFROM:+0200
TZOFFSETTO:+0300
TZNAME:EEST
DTSTART:20230326T010000
END:DAYLIGHT
BEGIN:STANDARD
TZOFFSETFROM:+0300
TZOFFSETTO:+0200
TZNAME:EET
DTSTART:20231029T010000
END:STANDARD
END:VTIMEZONE
BEGIN:VEVENT
DTSTART;TZID=Europe/Helsinki:20230502T100000
DTEND;TZID=Europe/Helsinki:20230502T110000
DTSTAMP:20260420T184325
CREATED:20230413T093014Z
LAST-MODIFIED:20230414T071506Z
UID:530-1683021600-1683025200@archive.entrepreneurship4all.eu
SUMMARY:Thinking outside the box
DESCRIPTION:Week 2 – Entrepreneurship Competence
URL:https://archive.entrepreneurship4all.eu/event/activity-1-3/
CATEGORIES:Beginners,Entrepreneurship Competence
END:VEVENT
END:VCALENDAR