BEGIN:VCALENDAR
VERSION:2.0
PRODID:-//Entrepreneurship4all - ECPv6.0.13.1//NONSGML v1.0//EN
CALSCALE:GREGORIAN
METHOD:PUBLISH
X-ORIGINAL-URL:https://archive.entrepreneurship4all.eu
X-WR-CALDESC:Events for Entrepreneurship4all
REFRESH-INTERVAL;VALUE=DURATION:PT1H
X-Robots-Tag:noindex
X-PUBLISHED-TTL:PT1H
BEGIN:VTIMEZONE
TZID:Europe/Helsinki
BEGIN:DAYLIGHT
TZOFFSETFROM:+0200
TZOFFSETTO:+0300
TZNAME:EEST
DTSTART:20230326T010000
END:DAYLIGHT
BEGIN:STANDARD
TZOFFSETFROM:+0300
TZOFFSETTO:+0200
TZNAME:EET
DTSTART:20231029T010000
END:STANDARD
TZID:Europe/Athens
BEGIN:DAYLIGHT
TZOFFSETFROM:+0200
TZOFFSETTO:+0300
TZNAME:EEST
DTSTART:20230326T010000
END:DAYLIGHT
BEGIN:STANDARD
TZOFFSETFROM:+0300
TZOFFSETTO:+0200
TZNAME:EET
DTSTART:20231029T010000
END:STANDARD
END:VTIMEZONE
BEGIN:VEVENT
DTSTART;TZID=Europe/Helsinki:20230502T090000
DTEND;TZID=Europe/Helsinki:20230502T100000
DTSTAMP:20260420T063902
CREATED:20230413T092921Z
LAST-MODIFIED:20230413T124112Z
UID:529-1683018000-1683021600@archive.entrepreneurship4all.eu
SUMMARY:How to choose and use financial services
DESCRIPTION:WEEK 2 – Financial Literacy
URL:https://archive.entrepreneurship4all.eu/event/how-to-choose-and-use-financial-services/
CATEGORIES:Beginners,Financial Literacy
END:VEVENT
BEGIN:VEVENT
DTSTART;TZID=Europe/Helsinki:20230509T090000
DTEND;TZID=Europe/Helsinki:20230509T100000
DTSTAMP:20260420T063902
CREATED:20230413T093351Z
LAST-MODIFIED:20230413T124139Z
UID:534-1683622800-1683626400@archive.entrepreneurship4all.eu
SUMMARY:Business Management and Planning
DESCRIPTION:Week 3 – Financial Literacy
URL:https://archive.entrepreneurship4all.eu/event/business-management-and-planning/
CATEGORIES:Beginners,Financial Literacy
END:VEVENT
BEGIN:VEVENT
DTSTART;TZID=Europe/Athens:20230516T090000
DTEND;TZID=Europe/Athens:20230516T100000
DTSTAMP:20260420T063902
CREATED:20230413T093959Z
LAST-MODIFIED:20230413T093959Z
UID:538-1684227600-1684231200@archive.entrepreneurship4all.eu
SUMMARY:Different types of Funding
DESCRIPTION:Week 4 – Financial Literacy
URL:https://archive.entrepreneurship4all.eu/event/different-types-of-funding/
LOCATION:Pillars
CATEGORIES:Beginners,Financial Literacy
END:VEVENT
BEGIN:VEVENT
DTSTART;TZID=Europe/Helsinki:20230523T090000
DTEND;TZID=Europe/Helsinki:20230523T100000
DTSTAMP:20260420T063902
CREATED:20230413T095244Z
LAST-MODIFIED:20230413T095244Z
UID:542-1684832400-1684836000@archive.entrepreneurship4all.eu
SUMMARY:Legals and financials for enterpreneurs
DESCRIPTION:Week 5 – Financial Literacy
URL:https://archive.entrepreneurship4all.eu/event/legals-and-financials-for-enterpreneurs/
LOCATION:Pillars
CATEGORIES:Beginners,Financial Literacy
END:VEVENT
BEGIN:VEVENT
DTSTART;TZID=Europe/Helsinki:20230530T090000
DTEND;TZID=Europe/Helsinki:20230530T100000
DTSTAMP:20260420T063902
CREATED:20230413T095723Z
LAST-MODIFIED:20230413T095723Z
UID:547-1685437200-1685440800@archive.entrepreneurship4all.eu
SUMMARY:Potential Risks for Enterpreneur
DESCRIPTION:Week 6 – Financial Literacy
URL:https://archive.entrepreneurship4all.eu/event/potential-risks-for-enterpreneur/
LOCATION:Pillars
CATEGORIES:Beginners,Financial Literacy
END:VEVENT
END:VCALENDAR