BEGIN:VCALENDAR
VERSION:2.0
PRODID:-//Entrepreneurship4all - ECPv6.0.13.1//NONSGML v1.0//EN
CALSCALE:GREGORIAN
METHOD:PUBLISH
X-ORIGINAL-URL:https://archive.entrepreneurship4all.eu
X-WR-CALDESC:Events for Entrepreneurship4all
REFRESH-INTERVAL;VALUE=DURATION:PT1H
X-Robots-Tag:noindex
X-PUBLISHED-TTL:PT1H
BEGIN:VTIMEZONE
TZID:Europe/Helsinki
BEGIN:DAYLIGHT
TZOFFSETFROM:+0200
TZOFFSETTO:+0300
TZNAME:EEST
DTSTART:20230326T010000
END:DAYLIGHT
BEGIN:STANDARD
TZOFFSETFROM:+0300
TZOFFSETTO:+0200
TZNAME:EET
DTSTART:20231029T010000
END:STANDARD
END:VTIMEZONE
BEGIN:VEVENT
DTSTART;TZID=Europe/Helsinki:20230502T110000
DTEND;TZID=Europe/Helsinki:20230502T120000
DTSTAMP:20260422T085850
CREATED:20230413T093109Z
LAST-MODIFIED:20230413T120553Z
UID:531-1683025200-1683028800@archive.entrepreneurship4all.eu
SUMMARY:An SDG Challenge; a sustainable bussiness
DESCRIPTION:Week 2 – Sustainability
URL:https://archive.entrepreneurship4all.eu/event/an-sdg-challenge-a-sustainable-bussiness/
CATEGORIES:Beginners,Sustainability
END:VEVENT
BEGIN:VEVENT
DTSTART;TZID=Europe/Helsinki:20230509T110000
DTEND;TZID=Europe/Helsinki:20230509T130000
DTSTAMP:20260422T085850
CREATED:20230413T093516Z
LAST-MODIFIED:20230413T120614Z
UID:535-1683630000-1683637200@archive.entrepreneurship4all.eu
SUMMARY:Introduction to GreenComp: the European sustainability competence framework & Sustainability and entrepreneurship in the EU
DESCRIPTION:Week 3 – Sustainability
URL:https://archive.entrepreneurship4all.eu/event/introduction-to-greencomp-the-european-sustainability-competence-framework-sustainability-and-entrepreneurship-in-the-eu/
CATEGORIES:Beginners,Sustainability
END:VEVENT
BEGIN:VEVENT
DTSTART;TZID=Europe/Helsinki:20230516T110000
DTEND;TZID=Europe/Helsinki:20230516T120000
DTSTAMP:20260422T085850
CREATED:20230413T094051Z
LAST-MODIFIED:20230413T120722Z
UID:539-1684234800-1684238400@archive.entrepreneurship4all.eu
SUMMARY:Business Model Canvas & Green Entrepreneurship
DESCRIPTION:Week 4 – Sustainability
URL:https://archive.entrepreneurship4all.eu/event/business-model-canvas-green-entrepreneurship/
CATEGORIES:Beginners,Sustainability
END:VEVENT
BEGIN:VEVENT
DTSTART;TZID=Europe/Helsinki:20230523T110000
DTEND;TZID=Europe/Helsinki:20230523T120000
DTSTAMP:20260422T085850
CREATED:20230413T095545Z
LAST-MODIFIED:20230413T120733Z
UID:545-1684839600-1684843200@archive.entrepreneurship4all.eu
SUMMARY:Green technologies in everyday life
DESCRIPTION:Week 5 – Sustainability
URL:https://archive.entrepreneurship4all.eu/event/green-technologies-in-everyday-life/
CATEGORIES:Beginners,Sustainability
END:VEVENT
BEGIN:VEVENT
DTSTART;TZID=Europe/Helsinki:20230531T110000
DTEND;TZID=Europe/Helsinki:20230531T120000
DTSTAMP:20260422T085850
CREATED:20230413T095854Z
LAST-MODIFIED:20230413T095854Z
UID:549-1685530800-1685534400@archive.entrepreneurship4all.eu
SUMMARY:Introduction to Sustainable Finance
DESCRIPTION:Week 6 – Sustainability
URL:https://archive.entrepreneurship4all.eu/event/introduction-to-sustainable-finance/
LOCATION:Pillars
CATEGORIES:Beginners,Sustainability
END:VEVENT
END:VCALENDAR